BEGIN:VCALENDAR
VERSION:2.0
METHOD:PUBLISH
PRODID:-//Agenda.ad//NONSGML v1.0//EN
BEGIN:VEVENT
CLASS:PUBLIC
UID:2f3eadea06d1e45dc06ae3323c92733a@agenda.ad
DTSTAMP:20260424T092846Z
DTSTART:20191220T230000Z
DTEND:20191220T230000Z
SUMMARY:'Quimera'<strong> -&nbsp;</strong>Titelles
DESCRIPTION:Espactacles Infantils · Octubre - Desembre 2019\
 n\nMés informació\nhttps://www.agenda.ad/activitat/andorra
 -la-vella/activitats-infantils/quimerateatre-titelles\nwww.a
 ndorralavella.ad \n\nOrganitza\nComú d'Andorra la Vell
 a
LOCATION:Teatre Comunal
SEQUENCE:0
TRANSP:OPAQUE
X-ALT-DESC;FMTTYPE=text/html:<!DOCTYPE HTML PUBLIC "-//W3C//DTD HTML 3.2//EN"><HTML><HEAD
 ><TITLE></TITLE></HEAD><BODY><FONT FACE="Arial" SIZE=2>Espac
 tacles Infantils &middot;&nbsp;Octubre - Desembre 2019<br/><
 br/><b>Més informació</b><br/><a href="https://www.agenda.
 ad/activitat/andorra-la-vella/activitats-infantils/quimerate
 atre-titelles">https://www.agenda.ad/activitat/andorra-la-ve
 lla/activitats-infantils/quimerateatre-titelles</a><br/>www.
 andorralavella.ad&nbsp;<br/><br/><b>Organitza</b><br/>Comú 
 d'Andorra la Vella</FONT></BODY></HTML>
END:VEVENT
END:VCALENDAR