BEGIN:VCALENDAR
VERSION:2.0
METHOD:PUBLISH
PRODID:-//Agenda.ad//NONSGML v1.0//EN
BEGIN:VEVENT
CLASS:PUBLIC
UID:3722a145cc031ff622608f09dda756b1@agenda.ad
DTSTAMP:20260422T004104Z
DTSTART:20191015T220000Z
DTEND:20191015T220000Z
SUMMARY:Cineclub:&nbsp;'La chute de l'empire am&eacute;ricain'
DESCRIPTION:Projeccions en VO subtitulada\n\nMés informació\nhttps://w
 ww.agenda.ad/activitat/andorra-la-vella/cinema/cineclub-la-c
 hute-de-l-empire-americain\nCineClub de les Valls\n\nOrganit
 za\nCineClub de les Valls
LOCATION:Teatre Comunal
SEQUENCE:0
TRANSP:OPAQUE
X-ALT-DESC;FMTTYPE=text/html:<!DOCTYPE HTML PUBLIC "-//W3C//DTD HTML 3.2//EN"><HTML><HEAD
 ><TITLE></TITLE></HEAD><BODY><FONT FACE="Arial" SIZE=2>Proje
 ccions en VO subtitulada<br/><br/><b>Més informació</b><br
 /><a href="https://www.agenda.ad/activitat/andorra-la-vella/
 cinema/cineclub-la-chute-de-l-empire-americain">https://www.
 agenda.ad/activitat/andorra-la-vella/cinema/cineclub-la-chut
 e-de-l-empire-americain</a><br/>CineClub de les Valls<br/><b
 r/><b>Organitza</b><br/>CineClub de les Valls</FONT></BODY><
 /HTML>
END:VEVENT
END:VCALENDAR