BEGIN:VCALENDAR
VERSION:2.0
METHOD:PUBLISH
PRODID:-//Agenda.ad//NONSGML v1.0//EN
BEGIN:VEVENT
CLASS:PUBLIC
UID:6d277502655728f6445ed930bc8f57b4@agenda.ad
DTSTAMP:20260422T015758Z
DTSTART:20191008T220000Z
DTEND:20191008T220000Z
SUMMARY:Cineclub: 'The Breadwinner'
DESCRIPTION:Projeccions en VO subtitulada\n\nMés informació\nhttps://w
 ww.agenda.ad/activitat/andorra-la-vella/cinema/cineclub-the-
 breadwinner\nCineClub de les Valls\n\nOrganitza\nCineClub de
  les Valls
LOCATION:Teatre Comunal
SEQUENCE:0
TRANSP:OPAQUE
X-ALT-DESC;FMTTYPE=text/html:<!DOCTYPE HTML PUBLIC "-//W3C//DTD HTML 3.2//EN"><HTML><HEAD
 ><TITLE></TITLE></HEAD><BODY><FONT FACE="Arial" SIZE=2>Proje
 ccions en VO subtitulada<br/><br/><b>Més informació</b><br
 /><a href="https://www.agenda.ad/activitat/andorra-la-vella/
 cinema/cineclub-the-breadwinner">https://www.agenda.ad/activ
 itat/andorra-la-vella/cinema/cineclub-the-breadwinner</a><br
 />CineClub de les Valls<br/><br/><b>Organitza</b><br/>CineCl
 ub de les Valls</FONT></BODY></HTML>
END:VEVENT
END:VCALENDAR