BEGIN:VCALENDAR
VERSION:2.0
METHOD:PUBLISH
PRODID:-//Agenda.ad//NONSGML v1.0//EN
BEGIN:VEVENT
CLASS:PUBLIC
UID:72bd919bbbe93c5bc6d1f2d10301ddce@agenda.ad
DTSTAMP:20260419T190538Z
DTSTART:20260318T230000Z
DTEND:20260318T230000Z
SUMMARY:&Ograve;pera en pantalla "Die Fledermaus" de Johann Strauss II
DESCRIPTION:\n\nMés informació\nhttps://www.agenda.ad/activitat/andorr
 a-la-vella/cinema/opera-en-pantalla-die-fledermaus-de-johann
 -strauss-ii\n
LOCATION:Centre Cultural La Llacuna
SEQUENCE:0
TRANSP:OPAQUE
X-ALT-DESC;FMTTYPE=text/html:<!DOCTYPE HTML PUBLIC "-//W3C//DTD HTML 3.2//EN"><HTML><HEAD
 ><TITLE></TITLE></HEAD><BODY><FONT FACE="Arial" SIZE=2><br/>
 <br/><b>Més informació</b><br/><a href="https://www.agenda
 .ad/activitat/andorra-la-vella/cinema/opera-en-pantalla-die-
 fledermaus-de-johann-strauss-ii">https://www.agenda.ad/activ
 itat/andorra-la-vella/cinema/opera-en-pantalla-die-fledermau
 s-de-johann-strauss-ii</a><br/></FONT></BODY></HTML>
END:VEVENT
END:VCALENDAR