BEGIN:VCALENDAR
VERSION:2.0
METHOD:PUBLISH
PRODID:-//Agenda.ad//NONSGML v1.0//EN
BEGIN:VEVENT
CLASS:PUBLIC
UID:43030c695fc2c5f10ae8d13b0044e6ea@agenda.ad
DTSTAMP:20191122T230501Z
DTSTART:20191202T230000Z
DTEND:20191202T230000Z
SUMMARY:'C&agrave;ncer a la inf&agrave;ncia, qu&egrave; es pot fer per evitar-ho?'
DESCRIPTION:\n\nMés informació\nhttps://www.agenda.ad/activitat/andorr
 a-la-vella/conferencies/-cancer-a-la-infancia-que-es-pot-fer
 -per-evitar-ho-\n\n\nOrganitza\nFundació Jacqueline Pradèr
 e
LOCATION:Centre de Congressos d'Andorra la Vella
SEQUENCE:0
TRANSP:OPAQUE
X-ALT-DESC;FMTTYPE=text/html:<!DOCTYPE HTML PUBLIC "-//W3C//DTD HTML 3.2//EN"><HTML><HEAD
 ><TITLE></TITLE></HEAD><BODY><FONT FACE="Arial" SIZE=2><br/>
 <br/><b>Més informació</b><br/><a href="https://www.agenda
 .ad/activitat/andorra-la-vella/conferencies/-cancer-a-la-inf
 ancia-que-es-pot-fer-per-evitar-ho-">https://www.agenda.ad/a
 ctivitat/andorra-la-vella/conferencies/-cancer-a-la-infancia
 -que-es-pot-fer-per-evitar-ho-</a><br/><br/><br/><b>Organitz
 a</b><br/>Fundació Jacqueline Pradère</FONT></BODY></HTML>
END:VEVENT
END:VCALENDAR