BEGIN:VCALENDAR
VERSION:2.0
METHOD:PUBLISH
PRODID:-//Agenda.ad//NONSGML v1.0//EN
BEGIN:VEVENT
CLASS:PUBLIC
UID:be5561e2308a9d0a4de0e00d0dd1eac4@agenda.ad
DTSTAMP:20260422T004103Z
DTSTART:20191016T220000Z
DTEND:20191016T220000Z
SUMMARY:'Ci&egrave;ncia ciutadana: tots podem ser investigadors'
DESCRIPTION:\n\nMés informació\nhttps://www.agenda.ad/activitat/andorr
 a-la-vella/conferencies/-ciencia-ciutadana-tots-podem-ser-in
 vestigadors-\n\n\nOrganitza\nInstitut d’Estudis Andorrans
LOCATION:Biblioteca Nacional d'Andorra
SEQUENCE:0
TRANSP:OPAQUE
X-ALT-DESC;FMTTYPE=text/html:<!DOCTYPE HTML PUBLIC "-//W3C//DTD HTML 3.2//EN"><HTML><HEAD
 ><TITLE></TITLE></HEAD><BODY><FONT FACE="Arial" SIZE=2><br/>
 <br/><b>Més informació</b><br/><a href="https://www.agenda
 .ad/activitat/andorra-la-vella/conferencies/-ciencia-ciutada
 na-tots-podem-ser-investigadors-">https://www.agenda.ad/acti
 vitat/andorra-la-vella/conferencies/-ciencia-ciutadana-tots-
 podem-ser-investigadors-</a><br/><br/><br/><b>Organitza</b><
 br/>Institut d’Estudis Andorrans</FONT></BODY></HTML>
END:VEVENT
END:VCALENDAR