BEGIN:VCALENDAR
VERSION:2.0
METHOD:PUBLISH
PRODID:-//Agenda.ad//NONSGML v1.0//EN
BEGIN:VEVENT
CLASS:PUBLIC
UID:6c4ab03d00bc70388899ae77e97c152f@agenda.ad
DTSTAMP:20260419T203140Z
DTSTART:20260303T230000Z
DTEND:20260303T230000Z
SUMMARY:<p>'Dones all capdavant' una taula rodona sobre lideratge, oportunitats i reptes reals</p>
DESCRIPTION:\n\nMés informació\nhttps://www.agenda.ad/activitat/andorr
 a-la-vella/conferencies/-dones-all-capdavant-una-taula-rodon
 a-sobre-lideratge-oportunitats-i-reptes-reals\nhola@hivefive
 .ad\n\nOrganitza\nHive Five Coworking
LOCATION:Hive Five Coworking
SEQUENCE:0
TRANSP:OPAQUE
X-ALT-DESC;FMTTYPE=text/html:<!DOCTYPE HTML PUBLIC "-//W3C//DTD HTML 3.2//EN"><HTML><HEAD
 ><TITLE></TITLE></HEAD><BODY><FONT FACE="Arial" SIZE=2><br/>
 <br/><b>Més informació</b><br/><a href="https://www.agenda
 .ad/activitat/andorra-la-vella/conferencies/-dones-all-capda
 vant-una-taula-rodona-sobre-lideratge-oportunitats-i-reptes-
 reals">https://www.agenda.ad/activitat/andorra-la-vella/conf
 erencies/-dones-all-capdavant-una-taula-rodona-sobre-liderat
 ge-oportunitats-i-reptes-reals</a><br/>hola@hivefive.ad<br/>
 <br/><b>Organitza</b><br/>Hive Five Coworking</FONT></BODY><
 /HTML>
END:VEVENT
END:VCALENDAR