BEGIN:VCALENDAR
VERSION:2.0
METHOD:PUBLISH
PRODID:-//Agenda.ad//NONSGML v1.0//EN
BEGIN:VEVENT
CLASS:PUBLIC
UID:a0a1b08be304ee8c0a139d48e787a221@agenda.ad
DTSTAMP:20260422T004003Z
DTSTART:20191013T220000Z
DTEND:20191013T220000Z
SUMMARY:<p>'No em puc comunicar amb el meu fill/la meva filla adolescent!'</p>
DESCRIPTION:A càrrec de Ramon Tena\n\nMés informació\nhttp
 s://www.agenda.ad/activitat/andorra-la-vella/conferencies/-n
 o-em-puc-comunicar-amb-el-meu-fill-a-adolescent!-\n+376 828 
 750 bibliopublica@andorra.ad\n\nOrganitza\nBiblioteca P
 ública d'Andorra
LOCATION:Biblioteca Pública del Govern
SEQUENCE:0
TRANSP:OPAQUE
X-ALT-DESC;FMTTYPE=text/html:<!DOCTYPE HTML PUBLIC "-//W3C//DTD HTML 3.2//EN"><HTML><HEAD
 ><TITLE></TITLE></HEAD><BODY><FONT FACE="Arial" SIZE=2><span
 >A&nbsp;<span>c&agrave;rrec de Ramon Tena</span></span><br/>
 <br/><b>Més informació</b><br/><a href="https://www.agenda
 .ad/activitat/andorra-la-vella/conferencies/-no-em-puc-comun
 icar-amb-el-meu-fill-a-adolescent!-">https://www.agenda.ad/a
 ctivitat/andorra-la-vella/conferencies/-no-em-puc-comunicar-
 amb-el-meu-fill-a-adolescent!-</a><br/>+376 828 750&nbsp;bib
 liopublica@andorra.ad<br/><br/><b>Organitza</b><br/>Bibliote
 ca Pública d'Andorra</FONT></BODY></HTML>
END:VEVENT
END:VCALENDAR