BEGIN:VCALENDAR
VERSION:2.0
METHOD:PUBLISH
PRODID:-//Agenda.ad//NONSGML v1.0//EN
BEGIN:VEVENT
CLASS:PUBLIC
UID:bf1275f427cf72ed2579af6716559603@agenda.ad
DTSTAMP:20260424T095646Z
DTSTART:20191203T230000Z
DTEND:20191203T230000Z
SUMMARY:<span>'Reptes de l&rsquo;empresa familiar andorrana: relleu generacional o desinversi&oacute;'</span>
DESCRIPTION:\n\nMés informació\nhttps://www.agenda.ad/activitat/andorr
 a-la-vella/conferencies/-reptes-de-lempresa-familiar-andorra
 na-relleu-generacional-o-desinversio-\n\n\nOrganitza\nCrèdi
 t Andorrà
LOCATION:Edifici Creand
SEQUENCE:0
TRANSP:OPAQUE
X-ALT-DESC;FMTTYPE=text/html:<!DOCTYPE HTML PUBLIC "-//W3C//DTD HTML 3.2//EN"><HTML><HEAD
 ><TITLE></TITLE></HEAD><BODY><FONT FACE="Arial" SIZE=2><br/>
 <br/><b>Més informació</b><br/><a href="https://www.agenda
 .ad/activitat/andorra-la-vella/conferencies/-reptes-de-lempr
 esa-familiar-andorrana-relleu-generacional-o-desinversio-">h
 ttps://www.agenda.ad/activitat/andorra-la-vella/conferencies
 /-reptes-de-lempresa-familiar-andorrana-relleu-generacional-
 o-desinversio-</a><br/><br/><br/><b>Organitza</b><br/>Crèdi
 t Andorrà</FONT></BODY></HTML>
END:VEVENT
END:VCALENDAR