BEGIN:VCALENDAR
VERSION:2.0
METHOD:PUBLISH
PRODID:-//Agenda.ad//NONSGML v1.0//EN
BEGIN:VEVENT
CLASS:PUBLIC
UID:4ea2bb3dc5eb29aa07f523e4d5a68479@agenda.ad
DTSTAMP:20260422T015937Z
DTSTART:20191011T220000Z
DTEND:20191011T220000Z
SUMMARY:<p>4a Trobada de joves emprenedors d'Andorra la Vella</p>
DESCRIPTION:Ponències, networking i mentories personalitzades.\n\
 nMés informació\nhttps://www.agenda.ad/activitat/andorra-l
 a-vella/conferencies/4a-trobada-de-joves-emprenedors-d-andor
 ra-la-vella\n\n\nOrganitza\nServei de Joventut del Comú d'A
 ndorra la Vella
LOCATION:Centre de Congressos d'Andorra la Vella
SEQUENCE:0
TRANSP:OPAQUE
X-ALT-DESC;FMTTYPE=text/html:<!DOCTYPE HTML PUBLIC "-//W3C//DTD HTML 3.2//EN"><HTML><HEAD
 ><TITLE></TITLE></HEAD><BODY><FONT FACE="Arial" SIZE=2><p>Po
 n&egrave;ncies,<em> networking</em> i mentories personalitza
 des.</p><br/><br/><b>Més informació</b><br/><a href="https
 ://www.agenda.ad/activitat/andorra-la-vella/conferencies/4a-
 trobada-de-joves-emprenedors-d-andorra-la-vella">https://www
 .agenda.ad/activitat/andorra-la-vella/conferencies/4a-trobad
 a-de-joves-emprenedors-d-andorra-la-vella</a><br/><br/><br/>
 <b>Organitza</b><br/>Servei de Joventut del Comú d'Andorra 
 la Vella</FONT></BODY></HTML>
END:VEVENT
END:VCALENDAR