BEGIN:VCALENDAR
VERSION:2.0
METHOD:PUBLISH
PRODID:-//Agenda.ad//NONSGML v1.0//EN
BEGIN:VEVENT
CLASS:PUBLIC
UID:956d2400bdec66b902d6093c9249a003@agenda.ad
DTSTAMP:20260419T175056Z
DTSTART:20260324T230000Z
DTEND:20260324T230000Z
SUMMARY:Confer&egrave;ncia 'Acompanyar les amistats a l&rsquo;adolesc&egrave;ncia: entendre, detectar i sostenir'
DESCRIPTION:\n\nMés informació\nhttps://www.agenda.ad/activitat/andorr
 a-la-vella/conferencies/conferencia-acompanyar-les-amistats-
 a-ladolescencia-entendre-detectar-i-sostenir-\nMinisteri de 
 Relacions Institucionals, Educació i Universitats
(+3
 76) 743 300
interescolars@govern.ad\n\nOrganitza\nMinisteri 
 de Relacions Institucionals, Educació i Universitats
LOCATION:Sala d'actes de MoraBanc
SEQUENCE:0
TRANSP:OPAQUE
X-ALT-DESC;FMTTYPE=text/html:<!DOCTYPE HTML PUBLIC "-//W3C//DTD HTML 3.2//EN"><HTML><HEAD
 ><TITLE></TITLE></HEAD><BODY><FONT FACE="Arial" SIZE=2><br/>
 <br/><b>Més informació</b><br/><a href="https://www.agenda
 .ad/activitat/andorra-la-vella/conferencies/conferencia-acom
 panyar-les-amistats-a-ladolescencia-entendre-detectar-i-sost
 enir-">https://www.agenda.ad/activitat/andorra-la-vella/conf
 erencies/conferencia-acompanyar-les-amistats-a-ladolescencia
 -entendre-detectar-i-sostenir-</a><br/>Ministeri de Relacion
 s Institucionals, Educaci&oacute; i Universitats
(+376) 743 
 300
interescolars@govern.ad<br/><br/><b>Organitza</b><br/>Mi
 nisteri de Relacions Institucionals, Educació i Universitat
 s</FONT></BODY></HTML>
END:VEVENT
END:VCALENDAR