BEGIN:VCALENDAR
VERSION:2.0
METHOD:PUBLISH
PRODID:-//Agenda.ad//NONSGML v1.0//EN
BEGIN:VEVENT
CLASS:PUBLIC
UID:a1a72566172ef428f90ce43cd787eb6e@agenda.ad
DTSTAMP:20260419T221209Z
DTSTART:20260225T230000Z
DTEND:20260225T230000Z
SUMMARY:Confer&egrave;ncia 'Diplomataris d'Andorra: l'edici&oacute; de textos hist&ograve;rics de les Valls i el Diplomatari del segle XVI'
DESCRIPTION:\n\nMés informació\nhttps://www.agenda.ad/activitat/andorr
 a-la-vella/conferencies/conferencia-diplomataris-d-andorra-l
 -edicio-de-textos-historics-de-les-valls-i-el-diplomatari-de
 l-segle-xvi-\n\n\nOrganitza\nArxiu Nacional d’Andorra
LOCATION:Sala d’Exposicions del Govern d'Andorra
SEQUENCE:0
TRANSP:OPAQUE
X-ALT-DESC;FMTTYPE=text/html:<!DOCTYPE HTML PUBLIC "-//W3C//DTD HTML 3.2//EN"><HTML><HEAD
 ><TITLE></TITLE></HEAD><BODY><FONT FACE="Arial" SIZE=2><br/>
 <br/><b>Més informació</b><br/><a href="https://www.agenda
 .ad/activitat/andorra-la-vella/conferencies/conferencia-dipl
 omataris-d-andorra-l-edicio-de-textos-historics-de-les-valls
 -i-el-diplomatari-del-segle-xvi-">https://www.agenda.ad/acti
 vitat/andorra-la-vella/conferencies/conferencia-diplomataris
 -d-andorra-l-edicio-de-textos-historics-de-les-valls-i-el-di
 plomatari-del-segle-xvi-</a><br/><br/><br/><b>Organitza</b><
 br/>Arxiu Nacional d’Andorra</FONT></BODY></HTML>
END:VEVENT
END:VCALENDAR