BEGIN:VCALENDAR
VERSION:2.0
METHOD:PUBLISH
PRODID:-//Agenda.ad//NONSGML v1.0//EN
BEGIN:VEVENT
CLASS:PUBLIC
UID:8210d5da92407f3ba540abfa1c664bd1@agenda.ad
DTSTAMP:20260419T203022Z
DTSTART:20260303T230000Z
DTEND:20260303T230000Z
SUMMARY:<span>Confer&egrave;ncia '</span><span><span style="color: #000000;">La Bressola: cinquanta anys d'immersi&oacute; i innovaci&oacute; educativa'</span></span>
DESCRIPTION:\n\nMés informació\nhttps://www.agenda.ad/activitat/andorr
 a-la-vella/conferencies/conferencia-la-bressola-cinquanta-an
 ys-d-immersio-i-innovacio-educativa-\n\n\nOrganitza\nCultura
  Activa i Associació d'Amics de la Bressola
LOCATION:Centre Cultural La Llacuna
SEQUENCE:0
TRANSP:OPAQUE
X-ALT-DESC;FMTTYPE=text/html:<!DOCTYPE HTML PUBLIC "-//W3C//DTD HTML 3.2//EN"><HTML><HEAD
 ><TITLE></TITLE></HEAD><BODY><FONT FACE="Arial" SIZE=2><br/>
 <br/><b>Més informació</b><br/><a href="https://www.agenda
 .ad/activitat/andorra-la-vella/conferencies/conferencia-la-b
 ressola-cinquanta-anys-d-immersio-i-innovacio-educativa-">ht
 tps://www.agenda.ad/activitat/andorra-la-vella/conferencies/
 conferencia-la-bressola-cinquanta-anys-d-immersio-i-innovaci
 o-educativa-</a><br/><br/><br/><b>Organitza</b><br/>Cultura 
 Activa i Associació d'Amics de la Bressola</FONT></BODY></H
 TML>
END:VEVENT
END:VCALENDAR