BEGIN:VCALENDAR
VERSION:2.0
METHOD:PUBLISH
PRODID:-//Agenda.ad//NONSGML v1.0//EN
BEGIN:VEVENT
CLASS:PUBLIC
UID:dca57c3cf994163fe3bd67bfdcb1b1d4@agenda.ad
DTSTAMP:20260419T203017Z
DTSTART:20260302T230000Z
DTEND:20260302T230000Z
SUMMARY:Confer&egrave;ncia 'Paraules i fets de dones: La vida als temps medievals'
DESCRIPTION:\n\nMés informació\nhttps://www.agenda.ad/activitat/andorr
 a-la-vella/conferencies/conferencia-paraules-i-fets-de-dones
 -la-vida-als-temps-medievals-\n\n\nOrganitza\nAmbaixada d’
 Espanya a Andorra i Institut Andorrà de les Dones
LOCATION:Ambaixada d'Espanya a Andorra
SEQUENCE:0
TRANSP:OPAQUE
X-ALT-DESC;FMTTYPE=text/html:<!DOCTYPE HTML PUBLIC "-//W3C//DTD HTML 3.2//EN"><HTML><HEAD
 ><TITLE></TITLE></HEAD><BODY><FONT FACE="Arial" SIZE=2><br/>
 <br/><b>Més informació</b><br/><a href="https://www.agenda
 .ad/activitat/andorra-la-vella/conferencies/conferencia-para
 ules-i-fets-de-dones-la-vida-als-temps-medievals-">https://w
 ww.agenda.ad/activitat/andorra-la-vella/conferencies/confere
 ncia-paraules-i-fets-de-dones-la-vida-als-temps-medievals-</
 a><br/><br/><br/><b>Organitza</b><br/>Ambaixada d’Espanya 
 a Andorra i Institut Andorrà de les Dones</FONT></BODY></HT
 ML>
END:VEVENT
END:VCALENDAR