BEGIN:VCALENDAR
VERSION:2.0
METHOD:PUBLISH
PRODID:-//Agenda.ad//NONSGML v1.0//EN
BEGIN:VEVENT
CLASS:PUBLIC
UID:1d0f7606d2fe792f0cb4818bbbd43202@agenda.ad
DTSTAMP:20260419T190641Z
DTSTART:20260309T230000Z
DTEND:20260309T230000Z
SUMMARY:Confer&egrave;ncia 'Perspectives del Dret Constitucional en el segle XXI' a c&agrave;rrec del Dr. Enric Fossas Espadaler, catedr&agrave;tic de Dret Constitucional de la Universitat Aut&ograve;noma de Barcelona
DESCRIPTION:\n\nMés informació\nhttps://www.agenda.ad/activitat/andorr
 a-la-vella/conferencies/conferencia-perspectives-del-dret-co
 nstitucional-en-el-segle-xxi-a-carrec-del-dr-enric-fossas-es
 padaler-catedratic-de-dret-constitucional-de-la-universitat-
 autonoma-de-barcelona\n\n\nOrganitza\nConsell General
LOCATION:Consell General
SEQUENCE:0
TRANSP:OPAQUE
X-ALT-DESC;FMTTYPE=text/html:<!DOCTYPE HTML PUBLIC "-//W3C//DTD HTML 3.2//EN"><HTML><HEAD
 ><TITLE></TITLE></HEAD><BODY><FONT FACE="Arial" SIZE=2><br/>
 <br/><b>Més informació</b><br/><a href="https://www.agenda
 .ad/activitat/andorra-la-vella/conferencies/conferencia-pers
 pectives-del-dret-constitucional-en-el-segle-xxi-a-carrec-de
 l-dr-enric-fossas-espadaler-catedratic-de-dret-constituciona
 l-de-la-universitat-autonoma-de-barcelona">https://www.agend
 a.ad/activitat/andorra-la-vella/conferencies/conferencia-per
 spectives-del-dret-constitucional-en-el-segle-xxi-a-carrec-d
 el-dr-enric-fossas-espadaler-catedratic-de-dret-constitucion
 al-de-la-universitat-autonoma-de-barcelona</a><br/><br/><br/
 ><b>Organitza</b><br/>Consell General</FONT></BODY></HTML>
END:VEVENT
END:VCALENDAR