BEGIN:VCALENDAR
VERSION:2.0
METHOD:PUBLISH
PRODID:-//Agenda.ad//NONSGML v1.0//EN
BEGIN:VEVENT
CLASS:PUBLIC
UID:71da997b2ef5ed7265bd614bcde3c3ea@agenda.ad
DTSTAMP:20260419T174655Z
DTSTART:20260324T230000Z
DTEND:20260326T230000Z
SUMMARY:Congr&eacute;s Mundial de Turisme de Neu, Muntanya i Benestar
DESCRIPTION:\n\nMés informació\nhttps://www.agenda.ad/activitat/andorr
 a-la-vella/conferencies/congres-mundial-de-turisme-de-neu-mu
 ntanya-i-benestar\n\n\nOrganitza\nEl Congrés està impulsat
  pel Govern d’Andorra i els set Comuns, en col·laboració
  amb UN Turisme. Aquesta edició Ordino és la parròquia am
 fitriona del Congrés.
LOCATION:Centre de Congressos d'Andorra la Vella
SEQUENCE:0
TRANSP:OPAQUE
X-ALT-DESC;FMTTYPE=text/html:<!DOCTYPE HTML PUBLIC "-//W3C//DTD HTML 3.2//EN"><HTML><HEAD
 ><TITLE></TITLE></HEAD><BODY><FONT FACE="Arial" SIZE=2><br/>
 <br/><b>Més informació</b><br/><a href="https://www.agenda
 .ad/activitat/andorra-la-vella/conferencies/congres-mundial-
 de-turisme-de-neu-muntanya-i-benestar">https://www.agenda.ad
 /activitat/andorra-la-vella/conferencies/congres-mundial-de-
 turisme-de-neu-muntanya-i-benestar</a><br/><br/><br/><b>Orga
 nitza</b><br/>El Congrés està impulsat pel Govern d’Ando
 rra i els set Comuns, en col·laboració amb UN Turisme. Aqu
 esta edició Ordino és la parròquia amfitriona del Congré
 s.</FONT></BODY></HTML>
END:VEVENT
END:VCALENDAR