BEGIN:VCALENDAR
VERSION:2.0
METHOD:PUBLISH
PRODID:-//Agenda.ad//NONSGML v1.0//EN
BEGIN:VEVENT
CLASS:PUBLIC
UID:7258d647e781dcc76f3048f3f37e7fa4@agenda.ad
DTSTAMP:20260419T190539Z
DTSTART:20260315T230000Z
DTEND:20260315T230000Z
SUMMARY:L'origen dels elements qu&iacute;mics, des del Big Bang fins l'oganess&oacute;
DESCRIPTION:\n\nMés informació\nhttps://www.agenda.ad/activitat/andorr
 a-la-vella/conferencies/l-origen-dels-elements-quimics-des-d
 el-big-bang-fins-l-oganesso\n\n\nOrganitza\nSocietat Andorra
 na de Ciències (SAC)
LOCATION:Centre Cultural La Llacuna
SEQUENCE:0
TRANSP:OPAQUE
X-ALT-DESC;FMTTYPE=text/html:<!DOCTYPE HTML PUBLIC "-//W3C//DTD HTML 3.2//EN"><HTML><HEAD
 ><TITLE></TITLE></HEAD><BODY><FONT FACE="Arial" SIZE=2><br/>
 <br/><b>Més informació</b><br/><a href="https://www.agenda
 .ad/activitat/andorra-la-vella/conferencies/l-origen-dels-el
 ements-quimics-des-del-big-bang-fins-l-oganesso">https://www
 .agenda.ad/activitat/andorra-la-vella/conferencies/l-origen-
 dels-elements-quimics-des-del-big-bang-fins-l-oganesso</a><b
 r/><br/><br/><b>Organitza</b><br/>Societat Andorrana de Ciè
 ncies (SAC)</FONT></BODY></HTML>
END:VEVENT
END:VCALENDAR