BEGIN:VCALENDAR
VERSION:2.0
METHOD:PUBLISH
PRODID:-//Agenda.ad//NONSGML v1.0//EN
BEGIN:VEVENT
CLASS:PUBLIC
UID:518f7db872968e74fe8e881901fd12c2@agenda.ad
DTSTAMP:20260422T015737Z
DTSTART:20191008T220000Z
DTEND:20191008T220000Z
SUMMARY:Malalties cardiovasculars: com les podem prevenir
DESCRIPTION:A cÃ rrec del cardiÃ²leg Ricard Ballester.\n\nMÃ
 ©s informaciÃ³\nhttps://www.agenda.ad/activitat/andorra-la-v
 ella/conferencies/malalties-cardiovasculars-com-les-podem-pr
 evenir\n\n\nOrganitza\nFundaciÃ³ CrÃ¨dit AndorrÃ 
LOCATION:Edifici Creand
SEQUENCE:0
TRANSP:OPAQUE
X-ALT-DESC;FMTTYPE=text/html:<!DOCTYPE HTML PUBLIC "-//W3C//DTD HTML 3.2//EN"><HTML><HEAD
 ><TITLE></TITLE></HEAD><BODY><FONT FACE="Arial" SIZE=2><span
 >A c&agrave;rrec del cardi&ograve;leg Ricard Ballester.</spa
 n><br/><br/><b>MÃ©s informaciÃ³</b><br/><a href="https://www
 .agenda.ad/activitat/andorra-la-vella/conferencies/malalties
 -cardiovasculars-com-les-podem-prevenir">https://www.agenda.
 ad/activitat/andorra-la-vella/conferencies/malalties-cardiov
 asculars-com-les-podem-prevenir</a><br/><br/><br/><b>Organit
 za</b><br/>FundaciÃ³ CrÃ¨dit AndorrÃ </FONT></BODY></HTML>
END:VEVENT
END:VCALENDAR