BEGIN:VCALENDAR
VERSION:2.0
METHOD:PUBLISH
PRODID:-//Agenda.ad//NONSGML v1.0//EN
BEGIN:VEVENT
CLASS:PUBLIC
UID:47ff42f6db55e34ade9db08caf84bbde@agenda.ad
DTSTAMP:20260419T174615Z
DTSTART:20260322T230000Z
DTEND:20260322T230000Z
SUMMARY:Presentaci&oacute; del llibre '40 anys de la SAC i d'evoluci&oacute; del m&oacute;n'
DESCRIPTION:\n\nMés informació\nhttps://www.agenda.ad/activitat/andorr
 a-la-vella/conferencies/presentacio-del-llibre-40-anys-de-la
 -sac-i-d-evolucio-del-mon-\n\n\nOrganitza\nSocietat Andorran
 a de Ciències (SAC)
LOCATION:Centre Cultural La Llacuna
SEQUENCE:0
TRANSP:OPAQUE
X-ALT-DESC;FMTTYPE=text/html:<!DOCTYPE HTML PUBLIC "-//W3C//DTD HTML 3.2//EN"><HTML><HEAD
 ><TITLE></TITLE></HEAD><BODY><FONT FACE="Arial" SIZE=2><br/>
 <br/><b>Més informació</b><br/><a href="https://www.agenda
 .ad/activitat/andorra-la-vella/conferencies/presentacio-del-
 llibre-40-anys-de-la-sac-i-d-evolucio-del-mon-">https://www.
 agenda.ad/activitat/andorra-la-vella/conferencies/presentaci
 o-del-llibre-40-anys-de-la-sac-i-d-evolucio-del-mon-</a><br/
 ><br/><br/><b>Organitza</b><br/>Societat Andorrana de Ciènc
 ies (SAC)</FONT></BODY></HTML>
END:VEVENT
END:VCALENDAR