BEGIN:VCALENDAR
VERSION:2.0
METHOD:PUBLISH
PRODID:-//Agenda.ad//NONSGML v1.0//EN
BEGIN:VEVENT
CLASS:PUBLIC
UID:1cfd4f553e264c05e4618ecf5d4157d5@agenda.ad
DTSTAMP:20260424T093743Z
DTSTART:20191211T230000Z
DTEND:20191211T230000Z
SUMMARY:<p>Presentaci&oacute; del mapa de cobertes del s&ograve;l d&rsquo;Andorra de l&rsquo;any 1948</p>
DESCRIPTION:\n\nMÃ©s informaciÃ³\nhttps://www.agenda.ad/activitat/andorr
 a-la-vella/conferencies/presentacio-del-mapa-de-cobertes-del
 -sol-dandorra-de-lany-1948\ncenma@iea.adÂ (+376) 742 630
 \n\nOrganitza\nCentre dâ€™Estudis de la Neu i la Muntanya dâ
 €™Andorra (CENMA)
LOCATION:Biblioteca Nacional d'Andorra
SEQUENCE:0
TRANSP:OPAQUE
X-ALT-DESC;FMTTYPE=text/html:<!DOCTYPE HTML PUBLIC "-//W3C//DTD HTML 3.2//EN"><HTML><HEAD
 ><TITLE></TITLE></HEAD><BODY><FONT FACE="Arial" SIZE=2><br/>
 <br/><b>MÃ©s informaciÃ³</b><br/><a href="https://www.agenda
 .ad/activitat/andorra-la-vella/conferencies/presentacio-del-
 mapa-de-cobertes-del-sol-dandorra-de-lany-1948">https://www.
 agenda.ad/activitat/andorra-la-vella/conferencies/presentaci
 o-del-mapa-de-cobertes-del-sol-dandorra-de-lany-1948</a><br/
 >cenma@iea.ad&nbsp;(+376) 742 630<br/><br/><b>Organitza</b><
 br/>Centre dâ€™Estudis de la Neu i la Muntanya dâ€™Andorra (
 CENMA)</FONT></BODY></HTML>
END:VEVENT
END:VCALENDAR