BEGIN:VCALENDAR
VERSION:2.0
METHOD:PUBLISH
PRODID:-//Agenda.ad//NONSGML v1.0//EN
BEGIN:VEVENT
CLASS:PUBLIC
UID:c20e05af45d7cceba3c7a823f7e52947@agenda.ad
DTSTAMP:20260419T190640Z
DTSTART:20260311T230000Z
DTEND:20260311T230000Z
SUMMARY:Taula rodona 'Les primeres passes del proc&eacute;s constituent (1989-1992)' a c&agrave;rrec de Tom Cerqueda, Josep Enric Daller&egrave;s, Albert Gelabert, Jordi Mas i Vicen&ccedil; Mateu. L&rsquo;acte ser&agrave; condu&iuml;t per Yvan Lara
DESCRIPTION:\n\nMés informació\nhttps://www.agenda.ad/activitat/andorr
 a-la-vella/conferencies/taula-rodona-les-primeres-passes-del
 -proces-constituent-1989-1992-a-carrec-de-tom-cerqueda-josep
 -enric-dalleres-albert-gelabert-jordi-mas-i-vicenc-mateu-lac
 te-sera-conduit-per-yvan-lara\n\n\nOrganitza\nConsell Genera
 l
LOCATION:Vestíbul del Consell General
SEQUENCE:0
TRANSP:OPAQUE
X-ALT-DESC;FMTTYPE=text/html:<!DOCTYPE HTML PUBLIC "-//W3C//DTD HTML 3.2//EN"><HTML><HEAD
 ><TITLE></TITLE></HEAD><BODY><FONT FACE="Arial" SIZE=2><br/>
 <br/><b>Més informació</b><br/><a href="https://www.agenda
 .ad/activitat/andorra-la-vella/conferencies/taula-rodona-les
 -primeres-passes-del-proces-constituent-1989-1992-a-carrec-d
 e-tom-cerqueda-josep-enric-dalleres-albert-gelabert-jordi-ma
 s-i-vicenc-mateu-lacte-sera-conduit-per-yvan-lara">https://w
 ww.agenda.ad/activitat/andorra-la-vella/conferencies/taula-r
 odona-les-primeres-passes-del-proces-constituent-1989-1992-a
 -carrec-de-tom-cerqueda-josep-enric-dalleres-albert-gelabert
 -jordi-mas-i-vicenc-mateu-lacte-sera-conduit-per-yvan-lara</
 a><br/><br/><br/><b>Organitza</b><br/>Consell General</FONT>
 </BODY></HTML>
END:VEVENT
END:VCALENDAR