BEGIN:VCALENDAR
VERSION:2.0
METHOD:PUBLISH
PRODID:-//Agenda.ad//NONSGML v1.0//EN
BEGIN:VEVENT
CLASS:PUBLIC
UID:d21f470c66397ba96337e5610406f536@agenda.ad
DTSTAMP:20260419T203017Z
DTSTART:20260302T230000Z
DTEND:20260302T230000Z
SUMMARY:<p>Taula rodona 'Maternitat i Empresa: El repte compartit quan la maternitat arriba a l&rsquo;empresa'</p>
DESCRIPTION:\n\nMés informació\nhttps://www.agenda.ad/activitat/andorr
 a-la-vella/conferencies/taula-rodona-maternitat-i-empresa-el
 -repte-compartit-quan-la-maternitat-arriba-a-lempresa-\nhttp
 s://ingeni.ad/esdeveniments\n\nOrganitza\nIngeni Coworking
LOCATION:Coworking Ònix
SEQUENCE:0
TRANSP:OPAQUE
X-ALT-DESC;FMTTYPE=text/html:<!DOCTYPE HTML PUBLIC "-//W3C//DTD HTML 3.2//EN"><HTML><HEAD
 ><TITLE></TITLE></HEAD><BODY><FONT FACE="Arial" SIZE=2><br/>
 <br/><b>Més informació</b><br/><a href="https://www.agenda
 .ad/activitat/andorra-la-vella/conferencies/taula-rodona-mat
 ernitat-i-empresa-el-repte-compartit-quan-la-maternitat-arri
 ba-a-lempresa-">https://www.agenda.ad/activitat/andorra-la-v
 ella/conferencies/taula-rodona-maternitat-i-empresa-el-repte
 -compartit-quan-la-maternitat-arriba-a-lempresa-</a><br/>htt
 ps://ingeni.ad/esdeveniments<br/><br/><b>Organitza</b><br/>I
 ngeni Coworking</FONT></BODY></HTML>
END:VEVENT
END:VCALENDAR