BEGIN:VCALENDAR
VERSION:2.0
METHOD:PUBLISH
PRODID:-//Agenda.ad//NONSGML v1.0//EN
BEGIN:VEVENT
CLASS:PUBLIC
UID:879dc974fe22efed80602174cc35a672@agenda.ad
DTSTAMP:20260424T095351Z
DTSTART:20191129T230000Z
DTEND:20191129T230000Z
SUMMARY:<span>4t Torneig nacional de cub de Rubik</span>
DESCRIPTION:\n\nMés informació\nhttps://www.agenda.ad/activitat/andorr
 a-la-vella/cursos-i-tallers/4t-torneig-nacional-de-cub-de-ru
 bik\n\n\nOrganitza\nFNAC Andorra 
LOCATION:FNAC Andorra
SEQUENCE:0
TRANSP:OPAQUE
X-ALT-DESC;FMTTYPE=text/html:<!DOCTYPE HTML PUBLIC "-//W3C//DTD HTML 3.2//EN"><HTML><HEAD
 ><TITLE></TITLE></HEAD><BODY><FONT FACE="Arial" SIZE=2><br/>
 <br/><b>Més informació</b><br/><a href="https://www.agenda
 .ad/activitat/andorra-la-vella/cursos-i-tallers/4t-torneig-n
 acional-de-cub-de-rubik">https://www.agenda.ad/activitat/and
 orra-la-vella/cursos-i-tallers/4t-torneig-nacional-de-cub-de
 -rubik</a><br/><br/><br/><b>Organitza</b><br/>FNAC Andorra <
 /FONT></BODY></HTML>
END:VEVENT
END:VCALENDAR