BEGIN:VCALENDAR
VERSION:2.0
METHOD:PUBLISH
PRODID:-//Agenda.ad//NONSGML v1.0//EN
BEGIN:VEVENT
CLASS:PUBLIC
UID:5bc9bc5e42223aef6fb27fddf5d1433a@agenda.ad
DTSTAMP:20260424T101355Z
DTSTART:20191128T230000Z
DTEND:20191128T230000Z
SUMMARY:<p>Festa del lleure del Servei de Joventut d'Andorra la Vella</p>
DESCRIPTION:\n\nMés informació\nhttps://www.agenda.ad/activitat/andorr
 a-la-vella/cursos-i-tallers/festa-del-lleure-del-servei-de-j
 oventut-d-andorra-la-vella\n\n\nOrganitza\nServei de Joventu
 t del Comú d'Andorra la Vella
LOCATION:La Central
SEQUENCE:0
TRANSP:OPAQUE
X-ALT-DESC;FMTTYPE=text/html:<!DOCTYPE HTML PUBLIC "-//W3C//DTD HTML 3.2//EN"><HTML><HEAD
 ><TITLE></TITLE></HEAD><BODY><FONT FACE="Arial" SIZE=2><br/>
 <br/><b>Més informació</b><br/><a href="https://www.agenda
 .ad/activitat/andorra-la-vella/cursos-i-tallers/festa-del-ll
 eure-del-servei-de-joventut-d-andorra-la-vella">https://www.
 agenda.ad/activitat/andorra-la-vella/cursos-i-tallers/festa-
 del-lleure-del-servei-de-joventut-d-andorra-la-vella</a><br/
 ><br/><br/><b>Organitza</b><br/>Servei de Joventut del Comú
  d'Andorra la Vella</FONT></BODY></HTML>
END:VEVENT
END:VCALENDAR