BEGIN:VCALENDAR
VERSION:2.0
METHOD:PUBLISH
PRODID:-//Agenda.ad//NONSGML v1.0//EN
BEGIN:VEVENT
CLASS:PUBLIC
UID:dd67b3a6e809b16fd843b296962a0554@agenda.ad
DTSTAMP:20260419T174254Z
DTSTART:20260203T230000Z
DTEND:20260324T230000Z
SUMMARY:Restauraci&oacute; d'art: conservar, transformar, q&uuml;estionar
DESCRIPTION:\n\nMés informació\nhttps://www.agenda.ad/activitat/andorr
 a-la-vella/cursos-i-tallers/restauracio-d-art-conservar-tran
 sformar-questionar\n\n\nOrganitza\nEscola d'Art
LOCATION:Centre Cultural La Llacuna
SEQUENCE:0
TRANSP:OPAQUE
X-ALT-DESC;FMTTYPE=text/html:<!DOCTYPE HTML PUBLIC "-//W3C//DTD HTML 3.2//EN"><HTML><HEAD
 ><TITLE></TITLE></HEAD><BODY><FONT FACE="Arial" SIZE=2><br/>
 <br/><b>Més informació</b><br/><a href="https://www.agenda
 .ad/activitat/andorra-la-vella/cursos-i-tallers/restauracio-
 d-art-conservar-transformar-questionar">https://www.agenda.a
 d/activitat/andorra-la-vella/cursos-i-tallers/restauracio-d-
 art-conservar-transformar-questionar</a><br/><br/><br/><b>Or
 ganitza</b><br/>Escola d'Art</FONT></BODY></HTML>
END:VEVENT
END:VCALENDAR