BEGIN:VCALENDAR
VERSION:2.0
METHOD:PUBLISH
PRODID:-//Agenda.ad//NONSGML v1.0//EN
BEGIN:VEVENT
CLASS:PUBLIC
UID:4bb5eda53ac34c21343dfd14050189e3@agenda.ad
DTSTAMP:20260419T203115Z
DTSTART:20260228T230000Z
DTEND:20260302T230000Z
SUMMARY:Taller intensiu de pallassa/pallasso a c&agrave;rrec de Pepa Plana
DESCRIPTION:\n\nMés informació\nhttps://www.agenda.ad/activitat/andorr
 a-la-vella/cursos-i-tallers/taller-intensiu-de-pallassa-pall
 asso-a-carrec-de-pepa-plana\n
LOCATION:Centre Cultural La Llacuna
SEQUENCE:0
TRANSP:OPAQUE
X-ALT-DESC;FMTTYPE=text/html:<!DOCTYPE HTML PUBLIC "-//W3C//DTD HTML 3.2//EN"><HTML><HEAD
 ><TITLE></TITLE></HEAD><BODY><FONT FACE="Arial" SIZE=2><br/>
 <br/><b>Més informació</b><br/><a href="https://www.agenda
 .ad/activitat/andorra-la-vella/cursos-i-tallers/taller-inten
 siu-de-pallassa-pallasso-a-carrec-de-pepa-plana">https://www
 .agenda.ad/activitat/andorra-la-vella/cursos-i-tallers/talle
 r-intensiu-de-pallassa-pallasso-a-carrec-de-pepa-plana</a><b
 r/></FONT></BODY></HTML>
END:VEVENT
END:VCALENDAR