BEGIN:VCALENDAR
VERSION:2.0
METHOD:PUBLISH
PRODID:-//Agenda.ad//NONSGML v1.0//EN
BEGIN:VEVENT
CLASS:PUBLIC
UID:119c53c6c8d62a461cfe762925bac7b5@agenda.ad
DTSTAMP:20260419T203022Z
DTSTART:20260304T230000Z
DTEND:20260304T230000Z
SUMMARY:Taller '<span>L&rsquo;Art fet Joia. Les muses de la Col&middot;lecci&oacute; Carmen Thyssen-Bornemisza'</span>
DESCRIPTION:\n\nMés informació\nhttps://www.agenda.ad/activitat/andorr
 a-la-vella/cursos-i-tallers/taller-lart-fet-joia-les-muses-d
 e-la-colleccio-carmen-thyssen-bornemisza-\nwww.museucarmenth
 yssenandorra.ad\n\nOrganitza\nMuseu Carmen Thyssen Andorra i
  Shiori
LOCATION:Hotel Pyrénées
SEQUENCE:0
TRANSP:OPAQUE
X-ALT-DESC;FMTTYPE=text/html:<!DOCTYPE HTML PUBLIC "-//W3C//DTD HTML 3.2//EN"><HTML><HEAD
 ><TITLE></TITLE></HEAD><BODY><FONT FACE="Arial" SIZE=2><br/>
 <br/><b>Més informació</b><br/><a href="https://www.agenda
 .ad/activitat/andorra-la-vella/cursos-i-tallers/taller-lart-
 fet-joia-les-muses-de-la-colleccio-carmen-thyssen-bornemisza
 -">https://www.agenda.ad/activitat/andorra-la-vella/cursos-i
 -tallers/taller-lart-fet-joia-les-muses-de-la-colleccio-carm
 en-thyssen-bornemisza-</a><br/>www.museucarmenthyssenandorra
 .ad<br/><br/><b>Organitza</b><br/>Museu Carmen Thyssen Andor
 ra i Shiori</FONT></BODY></HTML>
END:VEVENT
END:VCALENDAR