BEGIN:VCALENDAR
VERSION:2.0
METHOD:PUBLISH
PRODID:-//Agenda.ad//NONSGML v1.0//EN
BEGIN:VEVENT
CLASS:PUBLIC
UID:64eb493d9f74a2889948d88a8ea6816b@agenda.ad
DTSTAMP:20260424T101351Z
DTSTART:20191125T230000Z
DTEND:20191125T230000Z
SUMMARY:<span>&ldquo;Com embolicar regals&rdquo;, a c&agrave;rrec de La M&agrave; de la Mar</span>
DESCRIPTION:\n\nMés informació\nhttps://www.agenda.ad/activitat/andorr
 a-la-vella/cursos-i-tallers/“com-embolicar-regals”-a-car
 rec-de-la-ma-de-la-mar\n\n\nOrganitza\nGovern d'Andorra
LOCATION:Biblioteca Pública del Govern
SEQUENCE:0
TRANSP:OPAQUE
X-ALT-DESC;FMTTYPE=text/html:<!DOCTYPE HTML PUBLIC "-//W3C//DTD HTML 3.2//EN"><HTML><HEAD
 ><TITLE></TITLE></HEAD><BODY><FONT FACE="Arial" SIZE=2><br/>
 <br/><b>Més informació</b><br/><a href="https://www.agenda
 .ad/activitat/andorra-la-vella/cursos-i-tallers/“com-embol
 icar-regals”-a-carrec-de-la-ma-de-la-mar">https://www.agen
 da.ad/activitat/andorra-la-vella/cursos-i-tallers/“com-emb
 olicar-regals”-a-carrec-de-la-ma-de-la-mar</a><br/><br/><b
 r/><b>Organitza</b><br/>Govern d'Andorra</FONT></BODY></HTML
 >
END:VEVENT
END:VCALENDAR