BEGIN:VCALENDAR
VERSION:2.0
METHOD:PUBLISH
PRODID:-//Agenda.ad//NONSGML v1.0//EN
BEGIN:VEVENT
CLASS:PUBLIC
UID:4ebfad53d7817cf472c37183f0bd7b89@agenda.ad
DTSTAMP:20260419T190330Z
DTSTART:20260307T230000Z
DTEND:20260307T230000Z
SUMMARY:<!--StartFragment--><span data-olk-copy-source="MessageBody">💜</span>Dia internacional de la dona
DESCRIPTION:\n\nMés informació\nhttps://www.agenda.ad/activitat/andorr
 a-la-vella/cursos-i-tallers/💜8m-dia-internacional-de-la-d
 ona\n
LOCATION:Centre de Congressos d'Andorra la Vella
SEQUENCE:0
TRANSP:OPAQUE
X-ALT-DESC;FMTTYPE=text/html:<!DOCTYPE HTML PUBLIC "-//W3C//DTD HTML 3.2//EN"><HTML><HEAD
 ><TITLE></TITLE></HEAD><BODY><FONT FACE="Arial" SIZE=2><br/>
 <br/><b>Més informació</b><br/><a href="https://www.agenda
 .ad/activitat/andorra-la-vella/cursos-i-tallers/💜8m-dia-i
 nternacional-de-la-dona">https://www.agenda.ad/activitat/and
 orra-la-vella/cursos-i-tallers/💜8m-dia-internacional-de-l
 a-dona</a><br/></FONT></BODY></HTML>
END:VEVENT
END:VCALENDAR