BEGIN:VCALENDAR
VERSION:2.0
METHOD:PUBLISH
PRODID:-//Agenda.ad//NONSGML v1.0//EN
BEGIN:VEVENT
CLASS:PUBLIC
UID:0c30b1ed264fd8ff0f8a92891fc7c1a2@agenda.ad
DTSTAMP:20260419T202344Z
DTSTART:20260227T230000Z
DTEND:20260227T230000Z
SUMMARY:I Campionat Internacional de R&iacute;tmica &ndash; VALIRA CUP
DESCRIPTION:\n\nMés informació\nhttps://www.agenda.ad/activitat/andorr
 a-la-vella/esdeveniments-esportius/i-campionat-internacional
 -de-ritmica-valira-cup\n
LOCATION:Pavelló Toni Martí
SEQUENCE:0
TRANSP:OPAQUE
X-ALT-DESC;FMTTYPE=text/html:<!DOCTYPE HTML PUBLIC "-//W3C//DTD HTML 3.2//EN"><HTML><HEAD
 ><TITLE></TITLE></HEAD><BODY><FONT FACE="Arial" SIZE=2><br/>
 <br/><b>Més informació</b><br/><a href="https://www.agenda
 .ad/activitat/andorra-la-vella/esdeveniments-esportius/i-cam
 pionat-internacional-de-ritmica-valira-cup">https://www.agen
 da.ad/activitat/andorra-la-vella/esdeveniments-esportius/i-c
 ampionat-internacional-de-ritmica-valira-cup</a><br/></FONT>
 </BODY></HTML>
END:VEVENT
END:VCALENDAR