BEGIN:VCALENDAR
VERSION:2.0
METHOD:PUBLISH
PRODID:-//Agenda.ad//NONSGML v1.0//EN
BEGIN:VEVENT
CLASS:PUBLIC
UID:0f5f6c4f7c575c45deb890617e56a8f9@agenda.ad
DTSTAMP:20191120T195157Z
DTSTART:20191122T230000Z
DTEND:20191122T230000Z
SUMMARY:Classe magistral Indoor Cycling Solid&agrave;ria
DESCRIPTION:Per l'Associaci&oacute; Andorrana per la malaltia de l&rsquo
 ;Alzehimer (AAMA)\n\nMÃ©s informaciÃ³\nhttps://www.agenda.ad
 /activitat/andorra-la-vella/esdeveniments-esportius/mastercl
 ass-indoor-cycling-solidari\nwww.andorralavella.ad/?q=agenda
 /master-class-soli%C3%A0ria-dindoor-cycling
www.topcrono.net
  \n\nOrganitza\nCentre Esportiu dels Serradells i AAMA
LOCATION:Centre Esportiu Els Serradells
SEQUENCE:0
TRANSP:OPAQUE
X-ALT-DESC;FMTTYPE=text/html:<!DOCTYPE HTML PUBLIC "-//W3C//DTD HTML 3.2//EN"><HTML><HEAD
 ><TITLE></TITLE></HEAD><BODY><FONT FACE="Arial" SIZE=2><p>Pe
 r l'Associaci&oacute; Andorrana per la malaltia de l&rsquo;A
 lzehimer (<span>AAMA)</span></p><br/><br/><b>MÃ©s informaciÃ
 ³</b><br/><a href="https://www.agenda.ad/activitat/andorra-l
 a-vella/esdeveniments-esportius/masterclass-indoor-cycling-s
 olidari">https://www.agenda.ad/activitat/andorra-la-vella/es
 deveniments-esportius/masterclass-indoor-cycling-solidari</a
 ><br/>www.andorralavella.ad/?q=agenda/master-class-soli%C3%A
 0ria-dindoor-cycling
www.topcrono.net <br/><br/><b>Organitza
 </b><br/>Centre Esportiu dels Serradells i AAMA</FONT></BODY
 ></HTML>
END:VEVENT
END:VCALENDAR