BEGIN:VCALENDAR
VERSION:2.0
METHOD:PUBLISH
PRODID:-//Agenda.ad//NONSGML v1.0//EN
BEGIN:VEVENT
CLASS:PUBLIC
UID:1a19c0bfa0057e81efeddde04abeb570@agenda.ad
DTSTAMP:20260422T044007Z
DTSTART:20190128T230000Z
DTEND:20190405T220000Z
SUMMARY:'Alternatura', de Joan Xandri
DESCRIPTION:L’exposició s'emmarca en la celebració d
 el 600 aniversari del Consell de la Terra.\n\nMés informaci
 ó\nhttps://www.agenda.ad/activitat/andorra-la-vella/exposic
 ions/-alternatura-de-joan-xandri\n\n\nOrganitza\nConsell Gen
 eral
LOCATION:Casa de la Vall
SEQUENCE:0
TRANSP:OPAQUE
X-ALT-DESC;FMTTYPE=text/html:<!DOCTYPE HTML PUBLIC "-//W3C//DTD HTML 3.2//EN"><HTML><HEAD
 ><TITLE></TITLE></HEAD><BODY><FONT FACE="Arial" SIZE=2>L&rsq
 uo;exposici&oacute; s'emmarca en la celebraci&oacute; del 60
 0 aniversari del Consell de la Terra.<br/><br/><b>Més infor
 mació</b><br/><a href="https://www.agenda.ad/activitat/ando
 rra-la-vella/exposicions/-alternatura-de-joan-xandri">https:
 //www.agenda.ad/activitat/andorra-la-vella/exposicions/-alte
 rnatura-de-joan-xandri</a><br/><br/><br/><b>Organitza</b><br
 />Consell General</FONT></BODY></HTML>
END:VEVENT
END:VCALENDAR