BEGIN:VCALENDAR
VERSION:2.0
METHOD:PUBLISH
PRODID:-//Agenda.ad//NONSGML v1.0//EN
BEGIN:VEVENT
CLASS:PUBLIC
UID:a2178bd07078321e662e034278ba13f8@agenda.ad
DTSTAMP:20260424T105446Z
DTSTART:20191118T230000Z
DTEND:20200106T230000Z
SUMMARY:'MIS DOS YO', de Jimena Potenza
DESCRIPTION:Autoretrats\n\nMés informació\nhttps://www.agenda.ad/activ
 itat/andorra-la-vella/exposicions/-mis-dos-yo-de-jimena-pote
 nza\nInauguració dimarts 19 de novembre a les 19.30 h
 .\n\nOrganitza\nEscola d'Art
LOCATION:Centre Cultural La Llacuna
SEQUENCE:0
TRANSP:OPAQUE
X-ALT-DESC;FMTTYPE=text/html:<!DOCTYPE HTML PUBLIC "-//W3C//DTD HTML 3.2//EN"><HTML><HEAD
 ><TITLE></TITLE></HEAD><BODY><FONT FACE="Arial" SIZE=2>Autor
 etrats<br/><br/><b>Més informació</b><br/><a href="https:/
 /www.agenda.ad/activitat/andorra-la-vella/exposicions/-mis-d
 os-yo-de-jimena-potenza">https://www.agenda.ad/activitat/and
 orra-la-vella/exposicions/-mis-dos-yo-de-jimena-potenza</a><
 br/>Inauguraci&oacute; dimarts 19 de novembre a les 19.30 h.
 <br/><br/><b>Organitza</b><br/>Escola d'Art</FONT></BODY></H
 TML>
END:VEVENT
END:VCALENDAR