BEGIN:VCALENDAR
VERSION:2.0
METHOD:PUBLISH
PRODID:-//Agenda.ad//NONSGML v1.0//EN
BEGIN:VEVENT
CLASS:PUBLIC
UID:c22b593a5240b846d98d294c6680c8cc@agenda.ad
DTSTAMP:20260424T095338Z
DTSTART:20191126T230000Z
DTEND:20200625T220000Z
SUMMARY:'Relats reals de superviv&egrave;ncia, 1.255'
DESCRIPTION:Exposició amb motiu del Dia internacional per a 
 l’eliminació de la violència contra les 
 dones\n\nMés informació\nhttps://www.agenda.ad/activitat/a
 ndorra-la-vella/exposicions/-relats-reals-de-supervivencia-1
 255-\n\n\nOrganitza\nGovern d'Andorra
LOCATION:Diversos llocs de la parròquia
SEQUENCE:0
TRANSP:OPAQUE
X-ALT-DESC;FMTTYPE=text/html:<!DOCTYPE HTML PUBLIC "-//W3C//DTD HTML 3.2//EN"><HTML><HEAD
 ><TITLE></TITLE></HEAD><BODY><FONT FACE="Arial" SIZE=2>Expos
 ici&oacute; amb motiu del&nbsp;Dia internacional per a l&rsq
 uo;eliminaci&oacute; de la viol&egrave;ncia contra les dones
 <br/><br/><b>Més informació</b><br/><a href="https://www.a
 genda.ad/activitat/andorra-la-vella/exposicions/-relats-real
 s-de-supervivencia-1255-">https://www.agenda.ad/activitat/an
 dorra-la-vella/exposicions/-relats-reals-de-supervivencia-12
 55-</a><br/><br/><br/><b>Organitza</b><br/>Govern d'Andorra<
 /FONT></BODY></HTML>
END:VEVENT
END:VCALENDAR