BEGIN:VCALENDAR
VERSION:2.0
METHOD:PUBLISH
PRODID:-//Agenda.ad//NONSGML v1.0//EN
BEGIN:VEVENT
CLASS:PUBLIC
UID:682f14806c236096af4562d383b150b6@agenda.ad
DTSTAMP:20260419T202042Z
DTSTART:20250225T230000Z
DTEND:20260227T230000Z
SUMMARY:Ciutats a escala humana
DESCRIPTION:\n\nMés informació\nhttps://www.agenda.ad/activitat/andorr
 a-la-vella/exposicions/ciutats-a-escala-humana\n\n\nOrganitz
 a\nComú d'Andorra la Vella
LOCATION:Bici Lab Andorra · Museu de la bicicleta d'Andorra
SEQUENCE:0
TRANSP:OPAQUE
X-ALT-DESC;FMTTYPE=text/html:<!DOCTYPE HTML PUBLIC "-//W3C//DTD HTML 3.2//EN"><HTML><HEAD
 ><TITLE></TITLE></HEAD><BODY><FONT FACE="Arial" SIZE=2><br/>
 <br/><b>Més informació</b><br/><a href="https://www.agenda
 .ad/activitat/andorra-la-vella/exposicions/ciutats-a-escala-
 humana">https://www.agenda.ad/activitat/andorra-la-vella/exp
 osicions/ciutats-a-escala-humana</a><br/><br/><br/><b>Organi
 tza</b><br/>Comú d'Andorra la Vella</FONT></BODY></HTML>
END:VEVENT
END:VCALENDAR