BEGIN:VCALENDAR
VERSION:2.0
METHOD:PUBLISH
PRODID:-//Agenda.ad//NONSGML v1.0//EN
BEGIN:VEVENT
CLASS:PUBLIC
UID:64d77f76995bbb05b9660fb201313bf0@agenda.ad
DTSTAMP:20260419T163001Z
DTSTART:20260301T230000Z
DTEND:20260327T230000Z
SUMMARY:Exposici&oacute; &lsquo;Un cos sota 10 mirades&rsquo;
DESCRIPTION:\n\nMés informació\nhttps://www.agenda.ad/activitat/andorr
 a-la-vella/exposicions/exposicio-‘un-cos-sota-10-mirades\n
 @xarrancaassociacio
@emmaregada_performance\n\nOrganitza\nAs
 sociació Grup de Creadors la Xarranca
LOCATION:L'Institucional, Parc Central
SEQUENCE:0
TRANSP:OPAQUE
X-ALT-DESC;FMTTYPE=text/html:<!DOCTYPE HTML PUBLIC "-//W3C//DTD HTML 3.2//EN"><HTML><HEAD
 ><TITLE></TITLE></HEAD><BODY><FONT FACE="Arial" SIZE=2><br/>
 <br/><b>Més informació</b><br/><a href="https://www.agenda
 .ad/activitat/andorra-la-vella/exposicions/exposicio-‘un-c
 os-sota-10-mirades">https://www.agenda.ad/activitat/andorra-
 la-vella/exposicions/exposicio-‘un-cos-sota-10-mirades</a>
 <br/>@xarrancaassociacio
@emmaregada_performance<br/><br/><b
 >Organitza</b><br/>Associació Grup de Creadors la Xarranca<
 /FONT></BODY></HTML>
END:VEVENT
END:VCALENDAR