BEGIN:VCALENDAR
VERSION:2.0
METHOD:PUBLISH
PRODID:-//Agenda.ad//NONSGML v1.0//EN
BEGIN:VEVENT
CLASS:PUBLIC
UID:7c6969f38dcbef7f4e7133cce27125b1@agenda.ad
DTSTAMP:20260419T202211Z
DTSTART:20260202T230000Z
DTEND:20260227T230000Z
SUMMARY:Fira d'artesans de la Xarranca
DESCRIPTION:\n\nMés informació\nhttps://www.agenda.ad/activitat/andorr
 a-la-vella/exposicions/fira-d-artesans-de-la-xarranca\nxarra
 nca.artistes@gmail.com\n\nOrganitza\nLa Xarranca
LOCATION:L'Institucional, Parc Central
SEQUENCE:0
TRANSP:OPAQUE
X-ALT-DESC;FMTTYPE=text/html:<!DOCTYPE HTML PUBLIC "-//W3C//DTD HTML 3.2//EN"><HTML><HEAD
 ><TITLE></TITLE></HEAD><BODY><FONT FACE="Arial" SIZE=2><br/>
 <br/><b>Més informació</b><br/><a href="https://www.agenda
 .ad/activitat/andorra-la-vella/exposicions/fira-d-artesans-d
 e-la-xarranca">https://www.agenda.ad/activitat/andorra-la-ve
 lla/exposicions/fira-d-artesans-de-la-xarranca</a><br/>xarra
 nca.artistes@gmail.com<br/><br/><b>Organitza</b><br/>La Xarr
 anca</FONT></BODY></HTML>
END:VEVENT
END:VCALENDAR