BEGIN:VCALENDAR
VERSION:2.0
METHOD:PUBLISH
PRODID:-//Agenda.ad//NONSGML v1.0//EN
BEGIN:VEVENT
CLASS:PUBLIC
UID:b248d4707f5c54402eed30093221c50b@agenda.ad
DTSTAMP:20260419T174131Z
DTSTART:20260302T230000Z
DTEND:20260325T230000Z
SUMMARY:L'univers de la Maite
DESCRIPTION:\n\nMés informació\nhttps://www.agenda.ad/activitat/andorr
 a-la-vella/exposicions/l-univers-de-la-maite\n
LOCATION:Centre Cultural La Llacuna
SEQUENCE:0
TRANSP:OPAQUE
X-ALT-DESC;FMTTYPE=text/html:<!DOCTYPE HTML PUBLIC "-//W3C//DTD HTML 3.2//EN"><HTML><HEAD
 ><TITLE></TITLE></HEAD><BODY><FONT FACE="Arial" SIZE=2><br/>
 <br/><b>Més informació</b><br/><a href="https://www.agenda
 .ad/activitat/andorra-la-vella/exposicions/l-univers-de-la-m
 aite">https://www.agenda.ad/activitat/andorra-la-vella/expos
 icions/l-univers-de-la-maite</a><br/></FONT></BODY></HTML>
END:VEVENT
END:VCALENDAR