BEGIN:VCALENDAR
VERSION:2.0
METHOD:PUBLISH
PRODID:-//Agenda.ad//NONSGML v1.0//EN
BEGIN:VEVENT
CLASS:PUBLIC
UID:8e5f2932d39401a8c71ddd7bb9e885fe@agenda.ad
DTSTAMP:20260424T095339Z
DTSTART:20191108T230000Z
DTEND:20191228T230000Z
SUMMARY:'Mem&ograve;ries de la construcci&oacute; de l'avinguda Meritxell'
DESCRIPTION:Procés de naixement, creixement i consolidació
  (1930-1977)\n\nMés informació\nhttps://www.agenda.ad/acti
 vitat/andorra-la-vella/exposicions/memories-de-la-construcci
 o-de-l-avinguda-meritxell\nwww.memoriesavingudameritxell.com
 /\n\nOrganitza\nComú d'Andorra la Vella
LOCATION:Aparcament de la Vinyeta
SEQUENCE:0
TRANSP:OPAQUE
X-ALT-DESC;FMTTYPE=text/html:<!DOCTYPE HTML PUBLIC "-//W3C//DTD HTML 3.2//EN"><HTML><HEAD
 ><TITLE></TITLE></HEAD><BODY><FONT FACE="Arial" SIZE=2>Proc&
 eacute;s de naixement, creixement i consolidaci&oacute; (193
 0-1977)<br/><br/><b>Més informació</b><br/><a href="https:
 //www.agenda.ad/activitat/andorra-la-vella/exposicions/memor
 ies-de-la-construccio-de-l-avinguda-meritxell">https://www.a
 genda.ad/activitat/andorra-la-vella/exposicions/memories-de-
 la-construccio-de-l-avinguda-meritxell</a><br/>www.memoriesa
 vingudameritxell.com/<br/><br/><b>Organitza</b><br/>Comú d'
 Andorra la Vella</FONT></BODY></HTML>
END:VEVENT
END:VCALENDAR