BEGIN:VCALENDAR
VERSION:2.0
METHOD:PUBLISH
PRODID:-//Agenda.ad//NONSGML v1.0//EN
BEGIN:VEVENT
CLASS:PUBLIC
UID:2fc8908b8e334ea5f22321708e26c651@agenda.ad
DTSTAMP:20260422T003955Z
DTSTART:20191014T220000Z
DTEND:20191014T220000Z
SUMMARY:Roques al carrer. Museu obert de geologia
DESCRIPTION:\n\nMés informació\nhttps://www.agenda.ad/activitat/andorr
 a-la-vella/exposicions/roques-al-carrer-museu-obert-de-geolo
 gia\n\n\nOrganitza\nInstitut d’Estudis Andorrans
LOCATION:Parc Central
SEQUENCE:0
TRANSP:OPAQUE
X-ALT-DESC;FMTTYPE=text/html:<!DOCTYPE HTML PUBLIC "-//W3C//DTD HTML 3.2//EN"><HTML><HEAD
 ><TITLE></TITLE></HEAD><BODY><FONT FACE="Arial" SIZE=2><br/>
 <br/><b>Més informació</b><br/><a href="https://www.agenda
 .ad/activitat/andorra-la-vella/exposicions/roques-al-carrer-
 museu-obert-de-geologia">https://www.agenda.ad/activitat/and
 orra-la-vella/exposicions/roques-al-carrer-museu-obert-de-ge
 ologia</a><br/><br/><br/><b>Organitza</b><br/>Institut d’E
 studis Andorrans</FONT></BODY></HTML>
END:VEVENT
END:VCALENDAR