BEGIN:VCALENDAR
VERSION:2.0
METHOD:PUBLISH
PRODID:-//Agenda.ad//NONSGML v1.0//EN
BEGIN:VEVENT
CLASS:PUBLIC
UID:0a9314c97ce98eeb913469a4384ec5b6@agenda.ad
DTSTAMP:20260422T043457Z
DTSTART:20190210T230000Z
DTEND:20190221T230000Z
SUMMARY:Exposici&oacute; VIII Concurs d'arts pl&agrave;stiques - Joves 2018
DESCRIPTION:Exposició itinerant per les set parròquies del
  Principat\n\nMés informació\nhttps://www.agenda.ad/activi
 tat/andorra-la-vella/exposicions/viii-concurs-d-arts-plastiq
 ues-per-a-joves\n\n\nOrganitza\nDepartament de Joventut i Vo
 luntariat
LOCATION:Centre Cultural La Llacuna
SEQUENCE:0
TRANSP:OPAQUE
X-ALT-DESC;FMTTYPE=text/html:<!DOCTYPE HTML PUBLIC "-//W3C//DTD HTML 3.2//EN"><HTML><HEAD
 ><TITLE></TITLE></HEAD><BODY><FONT FACE="Arial" SIZE=2><stro
 ng>Exposici&oacute; itinerant per les set parr&ograve;quies 
 del Principat</strong><br/><br/><b>Més informació</b><br/>
 <a href="https://www.agenda.ad/activitat/andorra-la-vella/ex
 posicions/viii-concurs-d-arts-plastiques-per-a-joves">https:
 //www.agenda.ad/activitat/andorra-la-vella/exposicions/viii-
 concurs-d-arts-plastiques-per-a-joves</a><br/><br/><br/><b>O
 rganitza</b><br/>Departament de Joventut i Voluntariat</FONT
 ></BODY></HTML>
END:VEVENT
END:VCALENDAR