BEGIN:VCALENDAR
VERSION:2.0
METHOD:PUBLISH
PRODID:-//Agenda.ad//NONSGML v1.0//EN
BEGIN:VEVENT
CLASS:PUBLIC
UID:8bf23d7d8a7c2aa6381fea43a3102266@agenda.ad
DTSTAMP:20260422T004002Z
DTSTART:20191016T220000Z
DTEND:20191016T220000Z
SUMMARY:Fernando Tr&iacute;as de Bes i Tom&aacute;s Navarro al F&ograve;rum de la Fnac
DESCRIPTION:\n\nMés informació\nhttps://www.agenda.ad/activitat/andorr
 a-la-vella/lletres/fernando-trias-de-bes-i-tomas-navarro-al-
 forum-de-la-fnac\n\n\nOrganitza\nFNAC Andorra 
LOCATION:FNAC Andorra
SEQUENCE:0
TRANSP:OPAQUE
X-ALT-DESC;FMTTYPE=text/html:<!DOCTYPE HTML PUBLIC "-//W3C//DTD HTML 3.2//EN"><HTML><HEAD
 ><TITLE></TITLE></HEAD><BODY><FONT FACE="Arial" SIZE=2><br/>
 <br/><b>Més informació</b><br/><a href="https://www.agenda
 .ad/activitat/andorra-la-vella/lletres/fernando-trias-de-bes
 -i-tomas-navarro-al-forum-de-la-fnac">https://www.agenda.ad/
 activitat/andorra-la-vella/lletres/fernando-trias-de-bes-i-t
 omas-navarro-al-forum-de-la-fnac</a><br/><br/><br/><b>Organi
 tza</b><br/>FNAC Andorra </FONT></BODY></HTML>
END:VEVENT
END:VCALENDAR