BEGIN:VCALENDAR
VERSION:2.0
METHOD:PUBLISH
PRODID:-//Agenda.ad//NONSGML v1.0//EN
BEGIN:VEVENT
CLASS:PUBLIC
UID:522c479d7908d1a7192f9c529d11f97a@agenda.ad
DTSTAMP:20260422T003928Z
DTSTART:20191020T220000Z
DTEND:20191020T220000Z
SUMMARY:Jordi Tarragona al F&ograve;rum de la Fnac
DESCRIPTION:\n\nMés informació\nhttps://www.agenda.ad/activitat/andorr
 a-la-vella/lletres/jordi-tarragona-al-forum-de-la-fnac\n\n\n
 Organitza\nFNAC Andorra 
LOCATION:FNAC Andorra
SEQUENCE:0
TRANSP:OPAQUE
X-ALT-DESC;FMTTYPE=text/html:<!DOCTYPE HTML PUBLIC "-//W3C//DTD HTML 3.2//EN"><HTML><HEAD
 ><TITLE></TITLE></HEAD><BODY><FONT FACE="Arial" SIZE=2><br/>
 <br/><b>Més informació</b><br/><a href="https://www.agenda
 .ad/activitat/andorra-la-vella/lletres/jordi-tarragona-al-fo
 rum-de-la-fnac">https://www.agenda.ad/activitat/andorra-la-v
 ella/lletres/jordi-tarragona-al-forum-de-la-fnac</a><br/><br
 /><br/><b>Organitza</b><br/>FNAC Andorra </FONT></BODY></HTM
 L>
END:VEVENT
END:VCALENDAR