BEGIN:VCALENDAR
VERSION:2.0
METHOD:PUBLISH
PRODID:-//Agenda.ad//NONSGML v1.0//EN
BEGIN:VEVENT
CLASS:PUBLIC
UID:c2fe2caaaae759af27a245cd1a5d38be@agenda.ad
DTSTAMP:20260424T070519Z
DTSTART:20191203T230000Z
DTEND:20191203T230000Z
SUMMARY:<p>Presentaci&oacute; de l&rsquo;edici&oacute; biling&uuml;e angl&egrave;s &ndash; catal&agrave; del llibre 'An island in the sky', de James Kirkup</p>
DESCRIPTION:\n\nMés informació\nhttps://www.agenda.ad/activitat/andorr
 a-la-vella/lletres/presentacio-de-ledicio-bilingue-angles-ca
 tala-del-llibre-an-island-in-the-sky-de-james-kirkup\nBiblio
 teca NacionalTel. 826 445 bncultura.gov@andorra.ad &nbs
 p;www.cultura.ad/biblioteca-nacional\n\nOrganitza\nGovern d'
 Andorra
LOCATION:Hotel Rosaleda
SEQUENCE:0
TRANSP:OPAQUE
X-ALT-DESC;FMTTYPE=text/html:<!DOCTYPE HTML PUBLIC "-//W3C//DTD HTML 3.2//EN"><HTML><HEAD
 ><TITLE></TITLE></HEAD><BODY><FONT FACE="Arial" SIZE=2><br/>
 <br/><b>Més informació</b><br/><a href="https://www.agenda
 .ad/activitat/andorra-la-vella/lletres/presentacio-de-ledici
 o-bilingue-angles-catala-del-llibre-an-island-in-the-sky-de-
 james-kirkup">https://www.agenda.ad/activitat/andorra-la-vel
 la/lletres/presentacio-de-ledicio-bilingue-angles-catala-del
 -llibre-an-island-in-the-sky-de-james-kirkup</a><br/>Bibliot
 eca NacionalTel. 826 445 bncultura.gov@andorra.ad&nbsp;&nbsp
 ;www.cultura.ad/biblioteca-nacional<br/><br/><b>Organitza</b
 ><br/>Govern d'Andorra</FONT></BODY></HTML>
END:VEVENT
END:VCALENDAR