BEGIN:VCALENDAR
VERSION:2.0
METHOD:PUBLISH
PRODID:-//Agenda.ad//NONSGML v1.0//EN
BEGIN:VEVENT
CLASS:PUBLIC
UID:843f662d891373f66df4712a5b7dcf7a@agenda.ad
DTSTAMP:20260424T082340Z
DTSTART:20191127T230000Z
DTEND:20191127T230000Z
SUMMARY:<span>Presentaci&oacute; del llibre 'All&ograve; que som', de David G&aacute;lvez</span>
DESCRIPTION:\n\nMés informació\nhttps://www.agenda.ad/activitat/andorr
 a-la-vella/lletres/presentacio-del-llibre-allo-que-som-de-da
 vid-galvez\n\n\nOrganitza\nAnem Editors · Llibreria La Puç
 a
LOCATION:Llibreria la Puça
SEQUENCE:0
TRANSP:OPAQUE
X-ALT-DESC;FMTTYPE=text/html:<!DOCTYPE HTML PUBLIC "-//W3C//DTD HTML 3.2//EN"><HTML><HEAD
 ><TITLE></TITLE></HEAD><BODY><FONT FACE="Arial" SIZE=2><br/>
 <br/><b>Més informació</b><br/><a href="https://www.agenda
 .ad/activitat/andorra-la-vella/lletres/presentacio-del-llibr
 e-allo-que-som-de-david-galvez">https://www.agenda.ad/activi
 tat/andorra-la-vella/lletres/presentacio-del-llibre-allo-que
 -som-de-david-galvez</a><br/><br/><br/><b>Organitza</b><br/>
 Anem Editors · Llibreria La Puça</FONT></BODY></HTML>
END:VEVENT
END:VCALENDAR