BEGIN:VCALENDAR
VERSION:2.0
METHOD:PUBLISH
PRODID:-//Agenda.ad//NONSGML v1.0//EN
BEGIN:VEVENT
CLASS:PUBLIC
UID:ba900801e6edb5ee2d94cb2336da0d81@agenda.ad
DTSTAMP:20260419T133736Z
DTSTART:20241104T230000Z
DTEND:20241104T230000Z
SUMMARY:Presentaci&oacute; del llibre 'DE LA VALL AL PRINCIPAT &ndash; L&rsquo;evoluci&oacute; institucional d&rsquo;Andorra, dels or&iacute;gens al segle XVII', de Carles Gasc&oacute;n
DESCRIPTION:\n\nMés informació\nhttps://www.agenda.ad/activitat/andorr
 a-la-vella/lletres/presentacio-del-llibre-de-la-vall-al-prin
 cipat-levolucio-institucional-dandorra-dels-origens-al-segle
 -xvii-de-carles-gascon\n\n\nOrganitza\nConsell General
LOCATION:Consell General
SEQUENCE:0
TRANSP:OPAQUE
X-ALT-DESC;FMTTYPE=text/html:<!DOCTYPE HTML PUBLIC "-//W3C//DTD HTML 3.2//EN"><HTML><HEAD
 ><TITLE></TITLE></HEAD><BODY><FONT FACE="Arial" SIZE=2><br/>
 <br/><b>Més informació</b><br/><a href="https://www.agenda
 .ad/activitat/andorra-la-vella/lletres/presentacio-del-llibr
 e-de-la-vall-al-principat-levolucio-institucional-dandorra-d
 els-origens-al-segle-xvii-de-carles-gascon">https://www.agen
 da.ad/activitat/andorra-la-vella/lletres/presentacio-del-lli
 bre-de-la-vall-al-principat-levolucio-institucional-dandorra
 -dels-origens-al-segle-xvii-de-carles-gascon</a><br/><br/><b
 r/><b>Organitza</b><br/>Consell General</FONT></BODY></HTML>
END:VEVENT
END:VCALENDAR