BEGIN:VCALENDAR
VERSION:2.0
METHOD:PUBLISH
PRODID:-//Agenda.ad//NONSGML v1.0//EN
BEGIN:VEVENT
CLASS:PUBLIC
UID:af82c2590c34afd4dad1cb6147d20498@agenda.ad
DTSTAMP:20260419T190517Z
DTSTART:20260316T230000Z
DTEND:20260316T230000Z
SUMMARY:Presentaci&oacute; del llibre 'El rebost i altres malsons'
DESCRIPTION:\n\nMés informació\nhttps://www.agenda.ad/activitat/andorr
 a-la-vella/lletres/presentacio-del-llibre-el-rebost-i-altres
 -malsons-\n\n\nOrganitza\nEditorial i Acadèmia Masegosa
LOCATION:Llibreria La Trenca
SEQUENCE:0
TRANSP:OPAQUE
X-ALT-DESC;FMTTYPE=text/html:<!DOCTYPE HTML PUBLIC "-//W3C//DTD HTML 3.2//EN"><HTML><HEAD
 ><TITLE></TITLE></HEAD><BODY><FONT FACE="Arial" SIZE=2><br/>
 <br/><b>Més informació</b><br/><a href="https://www.agenda
 .ad/activitat/andorra-la-vella/lletres/presentacio-del-llibr
 e-el-rebost-i-altres-malsons-">https://www.agenda.ad/activit
 at/andorra-la-vella/lletres/presentacio-del-llibre-el-rebost
 -i-altres-malsons-</a><br/><br/><br/><b>Organitza</b><br/>Ed
 itorial i Acadèmia Masegosa</FONT></BODY></HTML>
END:VEVENT
END:VCALENDAR