BEGIN:VCALENDAR
VERSION:2.0
METHOD:PUBLISH
PRODID:-//Agenda.ad//NONSGML v1.0//EN
BEGIN:VEVENT
CLASS:PUBLIC
UID:5ec6b894e8ace0467190518844dde086@agenda.ad
DTSTAMP:20260422T004052Z
DTSTART:20191015T220000Z
DTEND:20191015T220000Z
SUMMARY:XXIV edicici&oacute; de 'L'autor i la seva obra'
DESCRIPTION:\n\nMés informació\nhttps://www.agenda.ad/activitat/andorr
 a-la-vella/lletres/xxiv-edicicio-de-l-autor-i-la-seva-obra-\
 nCentre Cultural La LlacunaTel.: +376 730 037\n\nOrganitza\n
 Associació d'Escriptors del Principat d'Andorra
LOCATION:Centre Cultural La Llacuna
SEQUENCE:0
TRANSP:OPAQUE
X-ALT-DESC;FMTTYPE=text/html:<!DOCTYPE HTML PUBLIC "-//W3C//DTD HTML 3.2//EN"><HTML><HEAD
 ><TITLE></TITLE></HEAD><BODY><FONT FACE="Arial" SIZE=2><br/>
 <br/><b>Més informació</b><br/><a href="https://www.agenda
 .ad/activitat/andorra-la-vella/lletres/xxiv-edicicio-de-l-au
 tor-i-la-seva-obra-">https://www.agenda.ad/activitat/andorra
 -la-vella/lletres/xxiv-edicicio-de-l-autor-i-la-seva-obra-</
 a><br/>Centre Cultural La LlacunaTel.: +376 730 037<br/><br/
 ><b>Organitza</b><br/>Associació d'Escriptors del Principat
  d'Andorra</FONT></BODY></HTML>
END:VEVENT
END:VCALENDAR