BEGIN:VCALENDAR
VERSION:2.0
METHOD:PUBLISH
PRODID:-//Agenda.ad//NONSGML v1.0//EN
BEGIN:VEVENT
CLASS:PUBLIC
UID:8caa6480dd3707629da952861a77fb30@agenda.ad
DTSTAMP:20260424T093743Z
DTSTART:20191122T230000Z
DTEND:20191216T230000Z
SUMMARY:32&egrave; Concurs de contes de Nadal
DESCRIPTION:\n\nMés informació\nhttps://www.agenda.ad/activitat/andorr
 a-la-vella/mes-cultura/32e-concurs-de-contes-de-nadal\n\n\nO
 rganitza\nGovern d'Andorra
LOCATION:Biblioteca Pública del Govern
SEQUENCE:0
TRANSP:OPAQUE
X-ALT-DESC;FMTTYPE=text/html:<!DOCTYPE HTML PUBLIC "-//W3C//DTD HTML 3.2//EN"><HTML><HEAD
 ><TITLE></TITLE></HEAD><BODY><FONT FACE="Arial" SIZE=2><br/>
 <br/><b>Més informació</b><br/><a href="https://www.agenda
 .ad/activitat/andorra-la-vella/mes-cultura/32e-concurs-de-co
 ntes-de-nadal">https://www.agenda.ad/activitat/andorra-la-ve
 lla/mes-cultura/32e-concurs-de-contes-de-nadal</a><br/><br/>
 <br/><b>Organitza</b><br/>Govern d'Andorra</FONT></BODY></HT
 ML>
END:VEVENT
END:VCALENDAR