BEGIN:VCALENDAR
VERSION:2.0
METHOD:PUBLISH
PRODID:-//Agenda.ad//NONSGML v1.0//EN
BEGIN:VEVENT
CLASS:PUBLIC
UID:9fc7de60b6560e0ac7bd3169844b402f@agenda.ad
DTSTAMP:20260422T004145Z
DTSTART:20191014T220000Z
DTEND:20191014T220000Z
SUMMARY:<p>Club de lectura musical &middot; Tert&uacute;lia al voltant dels llibres 'Els boscos de Ravel', de Michel Bernard, i 'Ravel', de Jean Echenoz</p>
DESCRIPTION:A càrrec de David Sanz\n\nMés informació\
 nhttps://www.agenda.ad/activitat/andorra-la-vella/mes-cultur
 a/club-de-lectura-musical-tertulia-al-voltant-dels-llibres-e
 ls-boscos-de-ravel-de-michel-bernard-i-ravel-de-jean-echenoz
 \n+376 828 750 bibliopublica@andorra.ad\n\nOrganitza\nB
 iblioteca Pública d'Andorra
LOCATION:Centre Cultural La Llacuna
SEQUENCE:0
TRANSP:OPAQUE
X-ALT-DESC;FMTTYPE=text/html:<!DOCTYPE HTML PUBLIC "-//W3C//DTD HTML 3.2//EN"><HTML><HEAD
 ><TITLE></TITLE></HEAD><BODY><FONT FACE="Arial" SIZE=2><span
 >A&nbsp;<span>c&agrave;rrec de&nbsp;<span>David Sanz</span><
 /span></span><br/><br/><b>Més informació</b><br/><a href="
 https://www.agenda.ad/activitat/andorra-la-vella/mes-cultura
 /club-de-lectura-musical-tertulia-al-voltant-dels-llibres-el
 s-boscos-de-ravel-de-michel-bernard-i-ravel-de-jean-echenoz"
 >https://www.agenda.ad/activitat/andorra-la-vella/mes-cultur
 a/club-de-lectura-musical-tertulia-al-voltant-dels-llibres-e
 ls-boscos-de-ravel-de-michel-bernard-i-ravel-de-jean-echenoz
 </a><br/>+376 828 750&nbsp;bibliopublica@andorra.ad<br/><br/
 ><b>Organitza</b><br/>Biblioteca Pública d'Andorra</FONT></
 BODY></HTML>
END:VEVENT
END:VCALENDAR